BEGIN:VCALENDAR
VERSION:2.0
PRODID:-//Hortus Supplies Int. - ECPv6.15.20//NONSGML v1.0//EN
CALSCALE:GREGORIAN
METHOD:PUBLISH
X-ORIGINAL-URL:https://www.hsibv.com
X-WR-CALDESC:Events for Hortus Supplies Int.
REFRESH-INTERVAL;VALUE=DURATION:PT1H
X-Robots-Tag:noindex
X-PUBLISHED-TTL:PT1H
BEGIN:VTIMEZONE
TZID:Europe/Amsterdam
BEGIN:DAYLIGHT
TZOFFSETFROM:+0100
TZOFFSETTO:+0200
TZNAME:CEST
DTSTART:20250330T010000
END:DAYLIGHT
BEGIN:STANDARD
TZOFFSETFROM:+0200
TZOFFSETTO:+0100
TZNAME:CET
DTSTART:20251026T010000
END:STANDARD
BEGIN:DAYLIGHT
TZOFFSETFROM:+0100
TZOFFSETTO:+0200
TZNAME:CEST
DTSTART:20260329T010000
END:DAYLIGHT
BEGIN:STANDARD
TZOFFSETFROM:+0200
TZOFFSETTO:+0100
TZNAME:CET
DTSTART:20261025T010000
END:STANDARD
BEGIN:DAYLIGHT
TZOFFSETFROM:+0100
TZOFFSETTO:+0200
TZNAME:CEST
DTSTART:20270328T010000
END:DAYLIGHT
BEGIN:STANDARD
TZOFFSETFROM:+0200
TZOFFSETTO:+0100
TZNAME:CET
DTSTART:20271031T010000
END:STANDARD
END:VTIMEZONE
BEGIN:VEVENT
DTSTART;VALUE=DATE:20260324
DTEND;VALUE=DATE:20260327
DTSTAMP:20260423T191937
CREATED:20251222T102943Z
LAST-MODIFIED:20251222T105049Z
UID:74554-1774310400-1774569599@www.hsibv.com
SUMMARY:GreenTech Americas
DESCRIPTION:Meet us in Mexico\, at the GreenTech Americas.\nBooth 2230 \nGreenTech Americas 2026\n\n\nOn 24 – 25 – 26 March 2026\, the sixth edition of GreenTech Americas will take place at the Querétaro Centro de Congresos in Mexico. \nGreenTech Americas is the only event specialized in the controlled environment production of high value crops in Latin America. You will find the world’s leading suppliers of cutting-edge technologies for the controlled environment horticultural production. \nJoin us for three action-packed days that provide the ideal platform to expand your network\, exchange ideas\, and find business opportunities. \n\n\n \nWhere\n\n\nQuerétaro Centro de Congresos\nQRO México\nPaseo de las Artes 1531\nJosefa Vergara 76090
URL:https://www.hsibv.com/event/greentech-americas-2/
ATTACH;FMTTYPE=image/jpeg:https://www.hsibv.com/wp-content/uploads/2025/12/Greentech-Americas.jpg
ORGANIZER;CN="Hortus Supplies International / Greentech":MAILTO:info@hsibv.com
END:VEVENT
BEGIN:VEVENT
DTSTART;VALUE=DATE:20260324
DTEND;VALUE=DATE:20260327
DTSTAMP:20260423T191937
CREATED:20251222T112342Z
LAST-MODIFIED:20251222T112342Z
UID:74578-1774310400-1774569599@www.hsibv.com
SUMMARY:HortiFlora Ethiopia
DESCRIPTION:Join us at the Hortiflora Exhibition in Addis Ababa\, Ethiopia \nHortus Supplies International will participate at the HortiFlora.\nVisit us at booth # A5.21 \n  \nHortiFlora is an annual event\,  full of opportunities for industry professionals to connect\, exchange ideas\, and conduct business\, he says. “With Ethiopia’s rising production of fresh flowers\, fruits\, and vegetables\, an annual event will further strengthen the country’s export potential\, stimulate its economy\, and foster continued growth in the horticultural sector’s employment.”
URL:https://www.hsibv.com/event/hortiflora-ethiopia/
CATEGORIES:Exhibition
ATTACH;FMTTYPE=image/jpeg:https://www.hsibv.com/wp-content/uploads/2025/12/HortiFlora-.jpg
END:VEVENT
END:VCALENDAR